BEGIN:VCALENDAR
VERSION:2.0
PRODID:gruene-kranzberg.de
METHOD:PUBLISH
BEGIN:VTIMEZONE
TZID:Europe/Berlin
X-LIC-LOCATION:Europe/Berlin
BEGIN:DAYLIGHT
TZOFFSETFROM:+0100
TZOFFSETTO:+0200
TZNAME:CEST
DTSTART:19700329T020000
RRULE:FREQ=YEARLY;INTERVAL=1;BYDAY=-1SU;BYMONTH=3
END:DAYLIGHT
BEGIN:STANDARD
TZOFFSETFROM:+0200
TZOFFSETTO:+0100
TZNAME:CET
DTSTART:19701025T030000
RRULE:FREQ=YEARLY;INTERVAL=1;BYDAY=-1SU;BYMONTH=10
END:STANDARD
END:VTIMEZONE
BEGIN:VEVENT
UID:ed2aaff257bd15251ff7140c6e60a1f7@gruene-kranzberg.de
URL;VALUE=URI:https://gruene-kranzberg.de/termine/schafkopf-speeddating/
LOCATION:Gasthof Kohlmeier (Metzgerwirt), Obere Dorfstr. 36, Kranzberg
SUMMARY:Schafkopf-Speed-Dating
DESCRIPTION;ALTREP="data:text/html,%0A%3Cp%3EAm%20Valentinstag%20laden%20
 wir%20ein%20zum%20gegenseitigen%20Kennenlernen%20beim%20Schafkopfn.%20Auc
 h%20wer%20nicht%20wei%C3%9F%2C%20wie%20man%20die%20Sau%20sucht%2C%20darf%
 20mitmachen%20und%20das%20sch%C3%B6nste%20bayerische%20Kartenspiel%20f%C3
 %BCr%20sich%20entdecken.%20Eine%20Gelegenheit%2C%20mal%20hoch%20vom%20Sof
 a%20und%20mit%20neuen%20Leuten%20ins%20Gespr%C3%A4ch%20zu%20kommen%2C%20g
 anz%20entspannt%20beim%20Karteln.%20Wer%20mag%2C%20kann%20den%20Tag%20mit
 %20einem%20guten%20gemeinsamen%20Mahl%20beim%20Metzgerwirt%20ausklingen%2
 0lassen.%20Also%2C%20auf%20geht%27s%20zum%20Schafkopf-Speed-Dating%20am%2
 0Valentinstag%2C%20jede%20und%20jeder%20ist%20willkommen%20und%20selbstve
 rst%C3%A4ndlich%20darf%20man%20sich%20da%20auch%20verlieben%20-%20wenn%27
 s%20auch%20nur%20ins%20Schafkopfn%20ist.%3C%2Fp%3E%0A%0A%0A%0A%3Cp%3EZur%
 20besseren%20Planung%20bitten%20wir%20um%20vorherige%20Anmeldung%20%C3%BC
 ber%20unser%20%3Ca%20href%3D%22https%3A%2F%2Fgruene-kranzberg.de%2Fkontak
 tformular%2F%22%20data-type%3D%22page%22%20data-id%3D%22248%22%3EKontaktf
 ormular.%3C%2Fa%3E%3C%2Fp%3E%0A":Am Valentinstag laden wir ein zum gegens
 eitigen Kennenlernen beim Schafkopfn. Auch wer nicht weiß\, wie man die 
 Sau sucht\, darf mitmachen und das schönste bayerische Kartenspiel für 
 sich entdecken. Eine Gelegenheit\, mal hoch vom Sofa und mit neuen Leuten
  ins Gespräch zu kommen\, ganz entspannt beim Karteln. Wer mag\, kann de
 n Tag mit einem guten gemeinsamen Mahl beim Metzgerwirt ausklingen lassen
 . Also\, auf geht's zum Schafkopf-Speed-Dating am Valentinstag\, jede und
  jeder ist willkommen und selbstverständlich darf man sich da auch verli
 eben - wenn's auch nur ins Schafkopfn ist.\n\nZur besseren Planung bitten
  wir um vorherige Anmeldung über unser Kontaktformular.
CLASS:PUBLIC
DTSTART;TZID=Europe/Berlin:20260214T150000
DTEND;TZID=Europe/Berlin:20260214T180000
DTSTAMP:20260420T035249
END:VEVENT
END:VCALENDAR