BEGIN:VCALENDAR
VERSION:2.0
PRODID:gruene-kranzberg.de
METHOD:PUBLISH
BEGIN:VTIMEZONE
TZID:Europe/Berlin
X-LIC-LOCATION:Europe/Berlin
BEGIN:DAYLIGHT
TZOFFSETFROM:+0100
TZOFFSETTO:+0200
TZNAME:CEST
DTSTART:19700329T020000
RRULE:FREQ=YEARLY;INTERVAL=1;BYDAY=-1SU;BYMONTH=3
END:DAYLIGHT
BEGIN:STANDARD
TZOFFSETFROM:+0200
TZOFFSETTO:+0100
TZNAME:CET
DTSTART:19701025T030000
RRULE:FREQ=YEARLY;INTERVAL=1;BYDAY=-1SU;BYMONTH=10
END:STANDARD
END:VTIMEZONE
BEGIN:VEVENT
UID:3a81042573e996a3acafbaf3161c5be2@gruene-kranzberg.de
URL;VALUE=URI:https://gruene-kranzberg.de/termine/gruene-bank-in-kranzber
 g/
LOCATION:Kirchenvorplatz, Kirchbergstrasse 10, Kranzberg
SUMMARY:Grüne Bank in Kranzberg
DESCRIPTION;ALTREP="data:text/html,%0A%3Cp%3EDie%20Gr%C3%BCne%20Bank%20to
 urt%20durch%20die%20Gemeinde%20und%20die%20Gemeindeteile.%20Wir%20wollen%
 20%3Cstrong%3Emiteinander%20reden%3C%2Fstrong%3E%2C%20offen%20sein%2C%20z
 uh%C3%B6ren%20und%20Gemeinsamkeiten%20erkennen.%3C%2Fp%3E%0A%0A%0A%0A%3Cp
 %3EAm%20Sonntag%2C%20%3Cstrong%3E%3Cstrong%3E26.%20Juli%3C%2Fstrong%3E%3C
 %2Fstrong%3E%20findet%20ihr%20die%20Gr%C3%BCne%20Bank%20%3Cstrong%3E10.30
 %20%E2%80%93%2011.30%20Uhr%3C%2Fstrong%3E%20in%20%3Cstrong%3EKranzberg%20
 %3C%2Fstrong%3Enahe%20der%20%3Cstrong%3EB%C3%BCcherei%20%3C%2Fstrong%3Eau
 f%20dem%20%3Cstrong%3EKirchenvorplatz%3C%2Fstrong%3E.%3C%2Fp%3E%0A%0A%0A%
 0A%3Cp%3EWir%20freuen%20uns%20auf%20euch%F0%9F%8C%BB%3C%2Fp%3E%0A%0A%0A%0
 A%3Cfigure%20class%3D%22wp-block-image%20size-large%22%3E%3Cimg%20src%3D%
 22https%3A%2F%2Fgruene-kranzberg.de%2Fwp-content%2Fuploads%2Fsites%2F14%2
 F2026%2F02%2FIMG_1791-1024x683.jpeg%22%20alt%3D%22Bild%20einer%20gr%C3%BC
 nen%20Bank%20mit%20Logo%20von%20B%C3%BCndnis%2090%20Die%20Gr%C3%BCnen.%22
 %20class%3D%22wp-image-1403%22%20%2F%3E%3Cfigcaption%20class%3D%22wp-elem
 ent-caption%22%3EHaltet%20die%20Augen%20offen%2C%20entdeckt%20uns%20und%2
 0setzt%20euch%20zu%20uns%20auf%20die%20Gr%C3%BCne%20Bank%21%3C%2Ffigcapti
 on%3E%3C%2Ffigure%3E%0A":Die Grüne Bank tourt durch die Gemeinde und die
  Gemeindeteile. Wir wollen miteinander reden\, offen sein\, zuhören und 
 Gemeinsamkeiten erkennen.\n\nAm Sonntag\, 26. Juli findet ihr die Grüne 
 Bank 10.30 – 11.30 Uhr in Kranzberg nahe der Bücherei auf dem Kirchenv
 orplatz.\n\nWir freuen uns auf euch🌻\n\nHaltet die Augen offen\, entde
 ckt uns und setzt euch zu uns auf die Grüne Bank!
CLASS:PUBLIC
DTSTART;TZID=Europe/Berlin:20260726T103000
DTEND;TZID=Europe/Berlin:20260726T113000
DTSTAMP:20260421T111026
END:VEVENT
END:VCALENDAR