BEGIN:VCALENDAR
VERSION:2.0
PRODID:gruene-kranzberg.de
METHOD:PUBLISH
BEGIN:VTIMEZONE
TZID:Europe/Berlin
X-LIC-LOCATION:Europe/Berlin
BEGIN:DAYLIGHT
TZOFFSETFROM:+0100
TZOFFSETTO:+0200
TZNAME:CEST
DTSTART:19700329T020000
RRULE:FREQ=YEARLY;INTERVAL=1;BYDAY=-1SU;BYMONTH=3
END:DAYLIGHT
BEGIN:STANDARD
TZOFFSETFROM:+0200
TZOFFSETTO:+0100
TZNAME:CET
DTSTART:19701025T030000
RRULE:FREQ=YEARLY;INTERVAL=1;BYDAY=-1SU;BYMONTH=10
END:STANDARD
END:VTIMEZONE
BEGIN:VEVENT
UID:989ee02157f2fe8360990c469e4a9197@gruene-kranzberg.de
URL;VALUE=URI:https://gruene-kranzberg.de/termine/dorfentwicklung-und-mob
 ilitaet/
LOCATION:Gasthof Kohlmeier, Obere Dorfstr. 36, Kranzberg
SUMMARY:Dorfentwicklung und Mobilität
DESCRIPTION;ALTREP="data:text/html,%0A%3Cp%3EDie%20Zahl%20der%20Gesch%C3%
 A4fte%20und%20Wirtschaften%20in%20den%20D%C3%B6rfern%20sinkt%20und%20es%2
 0ist%20ein%20Segen%2C%20wenn%20es%20noch%20eine%20Hausarztpraxis%20im%20O
 rt%20gibt.%20Busverbindungen%20sind%20nach%20wie%20vor%20nicht%20wirklich
 %20attraktiv%20und%20die%20Kassen%20werden%20immer%20leerer.%20Wie%20stel
 lt%20man%20da%20die%20Weichen%20f%C3%BCr%20eine%20gute%20Lebensqualit%C3%
 A4t%20in%20den%20Gemeinden%3F%20Johannes%20Becher%2C%20Mitglied%20des%20L
 andtags%20und%20stellvertretender%20Fraktionssprecher%20von%20B%C3%BCndni
 s90%2FDie%20Gr%C3%BCnen%2C%20kann%20viele%20Best%20Practice-Beispiele%20n
 ennen%20und%20zeigt%20an%20konkreten%20Projekten%20auf%2C%20wie%20man%20s
 trategische%20Leitlinien%20f%C3%BCr%20die%20Entwicklung%20von%20lebenswer
 ten%20Orten%20entwickeln%20kann.%20%3C%2Fp%3E%0A":Die Zahl der Geschäfte
  und Wirtschaften in den Dörfern sinkt und es ist ein Segen\, wenn es no
 ch eine Hausarztpraxis im Ort gibt. Busverbindungen sind nach wie vor nic
 ht wirklich attraktiv und die Kassen werden immer leerer. Wie stellt man 
 da die Weichen für eine gute Lebensqualität in den Gemeinden? Johannes 
 Becher\, Mitglied des Landtags und stellvertretender Fraktionssprecher vo
 n Bündnis90/Die Grünen\, kann viele Best Practice-Beispiele nennen und 
 zeigt an konkreten Projekten auf\, wie man strategische Leitlinien für d
 ie Entwicklung von lebenswerten Orten entwickeln kann.
CLASS:PUBLIC
DTSTART;TZID=Europe/Berlin:20260203T193000
DTEND;TZID=Europe/Berlin:20260203T220000
DTSTAMP:20260420T034821
END:VEVENT
END:VCALENDAR